BEGIN:VCALENDAR
PRODID:-//github.com/rianjs/ical.net//NONSGML ical.net 4.0//EN
VERSION:2.0
BEGIN:VEVENT
DTEND:20260506T180000
DTSTAMP:20260421T161151Z
DTSTART:20260505T120000
LOCATION:Bilgiyi Ticarileştirme Merkezi (Eski Yapı-Endüstri Merkezi)
SEQUENCE:0
SUMMARY:Yapı İnovasyon Günleri 2026  Katılımcı Kayıt Formu
UID:9f0eb009-886d-47fc-abe1-ff5a0037183e
END:VEVENT
END:VCALENDAR
