BEGIN:VCALENDAR
PRODID:-//github.com/rianjs/ical.net//NONSGML ical.net 4.0//EN
VERSION:2.0
BEGIN:VEVENT
DTEND:20241205T183000
DTSTAMP:20260422T100056Z
DTSTART:20241205T163000
SEQUENCE:0
SUMMARY:Kastamonu Entegre "Doğadan Hayata Köprü" Buluşmaları "Deneyimin Ta
 sarlanması" Oturumu Kayıt Formu
UID:c767c82b-5e66-4765-b848-37ab7bf9ca51
END:VEVENT
END:VCALENDAR
