BEGIN:VCALENDAR
PRODID:-//github.com/rianjs/ical.net//NONSGML ical.net 4.0//EN
VERSION:2.0
BEGIN:VEVENT
DTEND:20221213T150000
DTSTAMP:20260423T131534Z
DTSTART:20221213T140000
SEQUENCE:0
SUMMARY:Knauf Insulation ile Yalıtım Sohbetleri - 4 - Önkayıt Formu
UID:f5102844-ec0e-4b74-a3f0-0cb7c7b0f00d
END:VEVENT
END:VCALENDAR
